BEGIN:VCALENDAR
VERSION:2.0
PRODID:-//hacksw/handcal//NONSGML v1.0//EN
CALSCALE:GREGORIAN
BEGIN:VEVENT
LOCATION:Online
DESCRIPTION:Har du svårt att hänga med i det snabba tempot inom Hybrid Multicloud? Du är inte ensam. I april samlades branschens främsta experter i Chicago för Nutanix .NEXT 2026 för att staka ut framtiden för datacenter\, AI och molnlösningar.
DTSTART:20260603T063000Z
DTEND:20260603T071500Z
SUMMARY:Best of Nutanix .NEXT 2026 med NetNordic
URL;VALUE=URI:https://netnordic.se/events/best-of-nutanix-next-2026/
DTSTAMP:20260421T135749Z
UID:69e7825dd351b
END:VEVENT
END:VCALENDAR