BEGIN:VCALENDAR
VERSION:2.0
PRODID:-//hacksw/handcal//NONSGML v1.0//EN
CALSCALE:GREGORIAN
BEGIN:VEVENT
LOCATION:Online
DESCRIPTION:Broadcoms uppköp av VMware har väckt många frågor – och ännu fler funderingar. Hur påverkas licensmodellen? Vad händer med NSX? Är det dags att tänka om?
DTSTART:20250911T063000Z
DTEND:20250911T073000Z
SUMMARY:From NSX to Simplicity – en Broadcom-fri framtid med Nutanix
URL;VALUE=URI:https://netnordic.se/events/from-nsx-to-simplicity-en-broadcom-fri-framtid-med-nutanix/
DTSTAMP:20260421T100204Z
UID:69e74b1ca33b8
END:VEVENT
END:VCALENDAR