BEGIN:VCALENDAR
VERSION:2.0
PRODID:-//hacksw/handcal//NONSGML v1.0//EN
CALSCALE:GREGORIAN
BEGIN:VEVENT
LOCATION:Online
DESCRIPTION:I en tid då cyberhot kan slå till när som helst är det viktigare än någonsin att förstå hur man skyddar organisationens perimeter. Följ med oss på en exklusiv titt bakom kulisserna i NetNordics Security Operations Center – där uppdraget är att identifiera och jaga externa hot\, för att skydda kritisk infrastruktur och information.
DTSTART:20250129T080000Z
DTEND:20250129T083000Z
SUMMARY:SOC Behind Closed Doors: Beyond the Perimeter
URL;VALUE=URI:https://netnordic.se/events/soc-behind-closed-doors-beyond-the-perimeter/
DTSTAMP:20260421T083410Z
UID:69e7368234251
END:VEVENT
END:VCALENDAR